Package: ELMER Version: 2.30.0 Command: /Library/Frameworks/R.framework/Resources/bin/R CMD build --keep-empty-dirs --no-resave-data ELMER StartedAt: 2025-02-03 23:03:36 -0500 (Mon, 03 Feb 2025) EndedAt: 2025-02-03 23:11:17 -0500 (Mon, 03 Feb 2025) EllapsedTime: 461.7 seconds RetCode: 0 Status: OK PackageFile: ELMER_2.30.0.tar.gz PackageFileSize: 43.69 MiB