Package: ELMER Version: 2.30.0 Command: /Library/Frameworks/R.framework/Resources/bin/R CMD INSTALL ELMER StartedAt: 2025-02-03 18:07:35 -0500 (Mon, 03 Feb 2025) EndedAt: 2025-02-03 18:08:40 -0500 (Mon, 03 Feb 2025) EllapsedTime: 65.6 seconds RetCode: 0 Status: OK