Package: ELMER Version: 2.30.0 Command: rm -rf ELMER.buildbin-libdir && mkdir ELMER.buildbin-libdir && /Users/biocbuild/BBS/utils/build-universal.sh ELMER_2.30.0.tar.gz /Library/Frameworks/R.framework/Resources/bin/R ELMER.buildbin-libdir StartedAt: 2025-02-04 12:53:23 -0500 (Tue, 04 Feb 2025) EndedAt: 2025-02-04 12:55:44 -0500 (Tue, 04 Feb 2025) EllapsedTime: 141.1 seconds RetCode: 0 Status: OK PackageFile: ELMER_2.30.0.tgz PackageFileSize: 41.16 MiB