Package: ELMER Version: 2.30.0 Command: /Library/Frameworks/R.framework/Resources/bin/R CMD INSTALL ELMER StartedAt: 2025-02-03 16:45:23 -0500 (Mon, 03 Feb 2025) EndedAt: 2025-02-03 16:47:18 -0500 (Mon, 03 Feb 2025) EllapsedTime: 115.6 seconds RetCode: 0 Status: OK