Package: ELMER Version: 2.30.0 Command: /home/biocbuild/bbs-3.20-bioc/R/bin/R CMD build --keep-empty-dirs --no-resave-data --md5 ELMER StartedAt: 2025-02-03 17:17:51 -0500 (Mon, 03 Feb 2025) EndedAt: 2025-02-03 17:23:39 -0500 (Mon, 03 Feb 2025) EllapsedTime: 347.6 seconds RetCode: 0 Status: OK PackageFile: ELMER_2.30.0.tar.gz PackageFileSize: 43.58 MiB