############################################################################## ############################################################################## ### ### Running command: ### ### /home/biocbuild/bbs-3.20-bioc/R/bin/R CMD check --install=check:ELMER.install-out.txt --library=/home/biocbuild/bbs-3.20-bioc/R/site-library --timings ELMER_2.30.0.tar.gz ### ############################################################################## ############################################################################## * using log directory ‘/home/biocbuild/bbs-3.20-bioc/meat/ELMER.Rcheck’ * using R version 4.4.2 (2024-10-31) * using platform: x86_64-pc-linux-gnu * R was compiled by gcc (Ubuntu 13.2.0-23ubuntu4) 13.2.0 GNU Fortran (Ubuntu 13.2.0-23ubuntu4) 13.2.0 * running under: Ubuntu 24.04.1 LTS * using session charset: UTF-8 * checking for file ‘ELMER/DESCRIPTION’ ... OK * this is package ‘ELMER’ version ‘2.30.0’ * package encoding: UTF-8 * checking package namespace information ... OK * checking package dependencies ... OK * checking if this is a source package ... OK * checking if there is a namespace ... OK * checking for hidden files and directories ... OK * checking for portable file names ... OK * checking for sufficient/correct file permissions ... OK * checking whether package ‘ELMER’ can be installed ... OK * checking installed package size ... OK * checking package directory ... OK * checking ‘build’ directory ... OK * checking DESCRIPTION meta-information ... OK * checking top-level files ... OK * checking for left-over files ... OK * checking index information ... OK * checking package subdirectories ... OK * checking code files for non-ASCII characters ... OK * checking R files for syntax errors ... OK * checking whether the package can be loaded ... OK * checking whether the package can be loaded with stated dependencies ... OK * checking whether the package can be unloaded cleanly ... OK * checking whether the namespace can be loaded with stated dependencies ... OK * checking whether the namespace can be unloaded cleanly ... OK * checking loading without being on the library search path ... OK * checking dependencies in R code ... OK * checking S3 generic/method consistency ... OK * checking replacement functions ... OK * checking foreign function calls ... OK * checking R code for possible problems ... NOTE addMutCol: no visible binding for global variable 'Hugo_Symbol' calcDistNearestTSS: no visible binding for global variable 'DistanceTSS' getRegionNearGenes : f: no visible binding for global variable 'Side' getRegionNearGenes: no visible binding for global variable 'ID' getTFtargets: no visible binding for global variable 'TF' Undefined global functions or variables: DistanceTSS Hugo_Symbol ID Side TF * checking Rd files ... NOTE checkRd: (-1) createBigWigDNAmetArray.Rd:22: Lost braces; missing escapes or markup? 22 | \item{track.names}{Provide a list of track names (.bw) otherwise the deault is the will be {samples}.bw} | ^ * checking Rd metadata ... OK * checking Rd cross-references ... OK * checking for missing documentation entries ... OK * checking for code/documentation mismatches ... OK * checking Rd \usage sections ... OK * checking Rd contents ... OK * checking for unstated dependencies in examples ... OK * checking files in ‘vignettes’ ... OK * checking examples ... OK Examples with CPU (user + system) or elapsed time > 5s user system elapsed TCGA.pipe 66.306 2.108 69.835 getRandomPairs 36.258 2.171 45.373 createMAE 25.294 1.847 32.054 schematic.plot 20.810 1.508 31.033 get.enriched.motif 17.517 1.185 21.149 scatter.plot 12.120 0.416 12.539 get.feature.probe 10.009 0.847 11.101 preAssociationProbeFiltering 8.737 0.923 9.949 get.pair 8.567 0.368 8.936 GetNearGenes 8.600 0.210 8.811 get.diff.meth 8.040 0.676 10.853 getRegionNearGenes 6.006 0.076 6.083 get.TFs 5.080 0.427 8.495 getTCGA 2.262 0.266 7.650 * checking for unstated dependencies in ‘tests’ ... OK * checking tests ... Running ‘testthat.R’ OK * checking for unstated dependencies in vignettes ... OK * checking package vignettes ... OK * checking re-building of vignette outputs ... OK * checking PDF version of manual ... OK * DONE Status: 2 NOTEs See ‘/home/biocbuild/bbs-3.20-bioc/meat/ELMER.Rcheck/00check.log’ for details.