Package: ELMER Version: 2.30.0 Command: /home/biocbuild/bbs-3.20-bioc/R/bin/R CMD INSTALL ELMER StartedAt: 2025-02-03 16:06:52 -0500 (Mon, 03 Feb 2025) EndedAt: 2025-02-03 16:07:57 -0500 (Mon, 03 Feb 2025) EllapsedTime: 65.3 seconds RetCode: 0 Status: OK