Package: ELMER Version: 2.30.0 Command: rm -rf ELMER.buildbin-libdir && mkdir ELMER.buildbin-libdir && F:\biocbuild\bbs-3.20-bioc\R\bin\R.exe CMD INSTALL --build --library=ELMER.buildbin-libdir ELMER_2.30.0.tar.gz StartedAt: 2025-02-04 08:25:47 -0500 (Tue, 04 Feb 2025) EndedAt: 2025-02-04 08:27:29 -0500 (Tue, 04 Feb 2025) EllapsedTime: 102.8 seconds RetCode: 0 Status: OK PackageFile: ELMER_2.30.0.zip PackageFileSize: 40.34 MiB