Package: ELMER Version: 2.30.0 Command: /home/biocbuild/R/R/bin/R CMD build --keep-empty-dirs --no-resave-data ELMER StartedAt: 2025-02-03 23:21:54 -0000 (Mon, 03 Feb 2025) EndedAt: 2025-02-03 23:33:51 -0000 (Mon, 03 Feb 2025) EllapsedTime: 717.3 seconds RetCode: 0 Status: OK PackageFile: ELMER_2.30.0.tar.gz PackageFileSize: 44.56 MiB