Package: ELMER Version: 2.30.0 Command: /home/biocbuild/R/R/bin/R CMD INSTALL ELMER StartedAt: 2025-02-03 21:21:09 -0000 (Mon, 03 Feb 2025) EndedAt: 2025-02-03 21:22:17 -0000 (Mon, 03 Feb 2025) EllapsedTime: 67.7 seconds RetCode: 0 Status: OK