Package: EMDomics Version: 2.36.0 Command: /Library/Frameworks/R.framework/Resources/bin/R CMD check --install=check:EMDomics.install-out.txt --library=/Library/Frameworks/R.framework/Resources/library --no-vignettes --timings EMDomics_2.36.0.tar.gz StartedAt: 2025-02-04 18:54:06 -0500 (Tue, 04 Feb 2025) EndedAt: 2025-02-04 18:55:15 -0500 (Tue, 04 Feb 2025) EllapsedTime: 68.6 seconds RetCode: 0 Status: OK CheckDir: EMDomics.Rcheck Warnings: 0