Package: EMDomics Version: 2.36.0 Command: F:\biocbuild\bbs-3.20-bioc\R\bin\R.exe CMD INSTALL EMDomics StartedAt: 2025-02-03 15:52:58 -0500 (Mon, 03 Feb 2025) EndedAt: 2025-02-03 15:53:16 -0500 (Mon, 03 Feb 2025) EllapsedTime: 17.3 seconds RetCode: 0 Status: OK