Package: EMDomics Version: 2.36.0 Command: /home/biocbuild/R/R/bin/R CMD check --install=check:EMDomics.install-out.txt --library=/home/biocbuild/R/R/site-library --no-vignettes --timings EMDomics_2.36.0.tar.gz StartedAt: 2025-02-11 05:54:33 -0000 (Tue, 11 Feb 2025) EndedAt: 2025-02-11 05:56:02 -0000 (Tue, 11 Feb 2025) EllapsedTime: 89.1 seconds RetCode: 0 Status: OK CheckDir: EMDomics.Rcheck Warnings: 0