Package: ERSSA Version: 1.24.0 Command: rm -rf ERSSA.buildbin-libdir && mkdir ERSSA.buildbin-libdir && /Users/biocbuild/BBS/utils/build-universal.sh ERSSA_1.24.0.tar.gz /Library/Frameworks/R.framework/Resources/bin/R ERSSA.buildbin-libdir StartedAt: 2025-02-05 15:47:27 -0500 (Wed, 05 Feb 2025) EndedAt: 2025-02-05 15:48:02 -0500 (Wed, 05 Feb 2025) EllapsedTime: 35.2 seconds RetCode: 0 Status: OK PackageFile: ERSSA_1.24.0.tgz PackageFileSize: 2.52 MiB