Package: ERSSA Version: 1.24.0 Command: /Library/Frameworks/R.framework/Resources/bin/R CMD build --keep-empty-dirs --no-resave-data ERSSA StartedAt: 2025-02-03 23:24:04 -0500 (Mon, 03 Feb 2025) EndedAt: 2025-02-03 23:25:07 -0500 (Mon, 03 Feb 2025) EllapsedTime: 62.7 seconds RetCode: 0 Status: OK PackageFile: ERSSA_1.24.0.tar.gz PackageFileSize: 2.679 MiB