Package: ERSSA Version: 1.24.0 Command: /Library/Frameworks/R.framework/Resources/bin/R CMD INSTALL ERSSA StartedAt: 2025-02-03 15:52:38 -0500 (Mon, 03 Feb 2025) EndedAt: 2025-02-03 15:53:34 -0500 (Mon, 03 Feb 2025) EllapsedTime: 56.5 seconds RetCode: 0 Status: OK