Package: ERSSA Version: 1.24.0 Command: /home/biocbuild/bbs-3.20-bioc/R/bin/R CMD build --keep-empty-dirs --no-resave-data --md5 ERSSA StartedAt: 2025-02-03 17:22:17 -0500 (Mon, 03 Feb 2025) EndedAt: 2025-02-03 17:23:03 -0500 (Mon, 03 Feb 2025) EllapsedTime: 46.0 seconds RetCode: 0 Status: OK PackageFile: ERSSA_1.24.0.tar.gz PackageFileSize: 2.681 MiB