Package: ERSSA Version: 1.24.0 Command: chmod a+r ERSSA -R && F:\biocbuild\bbs-3.20-bioc\R\bin\R.exe CMD build --keep-empty-dirs --no-resave-data ERSSA StartedAt: 2025-01-30 18:45:27 -0500 (Thu, 30 Jan 2025) EndedAt: 2025-01-30 18:46:38 -0500 (Thu, 30 Jan 2025) EllapsedTime: 70.7 seconds RetCode: 0 Status: OK PackageFile: ERSSA_1.24.0.tar.gz PackageFileSize: 2.679 MiB