Package: ERSSA Version: 1.24.0 Command: F:\biocbuild\bbs-3.20-bioc\R\bin\R.exe CMD INSTALL ERSSA StartedAt: 2025-01-30 15:59:31 -0500 (Thu, 30 Jan 2025) EndedAt: 2025-01-30 16:00:09 -0500 (Thu, 30 Jan 2025) EllapsedTime: 38.9 seconds RetCode: 0 Status: OK