Package: ERSSA Version: 1.24.0 Command: /home/biocbuild/R/R/bin/R CMD build --keep-empty-dirs --no-resave-data ERSSA StartedAt: 2025-01-30 23:31:14 -0000 (Thu, 30 Jan 2025) EndedAt: 2025-01-30 23:32:15 -0000 (Thu, 30 Jan 2025) EllapsedTime: 61.0 seconds RetCode: 0 Status: OK PackageFile: ERSSA_1.24.0.tar.gz PackageFileSize: 2.742 MiB