Package: ERSSA Version: 1.24.0 Command: /home/biocbuild/R/R/bin/R CMD INSTALL ERSSA StartedAt: 2025-02-03 20:47:54 -0000 (Mon, 03 Feb 2025) EndedAt: 2025-02-03 20:48:26 -0000 (Mon, 03 Feb 2025) EllapsedTime: 32.3 seconds RetCode: 0 Status: OK