Package: EWCE Version: 1.14.0 Command: /Library/Frameworks/R.framework/Resources/bin/R CMD build --keep-empty-dirs --no-resave-data EWCE StartedAt: 2025-01-30 23:30:35 -0500 (Thu, 30 Jan 2025) EndedAt: 2025-01-30 23:35:20 -0500 (Thu, 30 Jan 2025) EllapsedTime: 284.9 seconds RetCode: 0 Status: OK PackageFile: EWCE_1.14.0.tar.gz PackageFileSize: 2.54 MiB