Package: EWCE Version: 1.14.0 Command: /Library/Frameworks/R.framework/Resources/bin/R CMD check --install=check:EWCE.install-out.txt --library=/Library/Frameworks/R.framework/Resources/library --no-vignettes --timings EWCE_1.14.0.tar.gz StartedAt: 2024-11-09 02:01:10 -0500 (Sat, 09 Nov 2024) EndedAt: 2024-11-09 02:11:28 -0500 (Sat, 09 Nov 2024) EllapsedTime: 618.0 seconds RetCode: 0 Status: OK CheckDir: EWCE.Rcheck Warnings: 0