Package: EWCE Version: 1.14.0 Command: rm -rf EWCE.buildbin-libdir && mkdir EWCE.buildbin-libdir && /Users/biocbuild/BBS/utils/build-universal.sh EWCE_1.14.0.tar.gz /Library/Frameworks/R.framework/Resources/bin/R EWCE.buildbin-libdir StartedAt: 2025-01-31 12:46:55 -0500 (Fri, 31 Jan 2025) EndedAt: 2025-01-31 12:48:14 -0500 (Fri, 31 Jan 2025) EllapsedTime: 79.6 seconds RetCode: 0 Status: OK PackageFile: EWCE_1.14.0.tgz PackageFileSize: 2.861 MiB