Package: EWCE Version: 1.14.0 Command: /home/biocbuild/bbs-3.20-bioc/R/bin/R CMD build --keep-empty-dirs --no-resave-data --md5 EWCE StartedAt: 2025-01-30 17:13:53 -0500 (Thu, 30 Jan 2025) EndedAt: 2025-01-30 17:17:49 -0500 (Thu, 30 Jan 2025) EllapsedTime: 235.6 seconds RetCode: 0 Status: OK PackageFile: EWCE_1.14.0.tar.gz PackageFileSize: 2.716 MiB