Package: EWCE Version: 1.14.0 Command: /home/biocbuild/bbs-3.20-bioc/R/bin/R CMD check --install=check:EWCE.install-out.txt --library=/home/biocbuild/bbs-3.20-bioc/R/site-library --timings EWCE_1.14.0.tar.gz StartedAt: 2025-01-30 22:06:51 -0500 (Thu, 30 Jan 2025) EndedAt: 2025-01-30 22:27:22 -0500 (Thu, 30 Jan 2025) EllapsedTime: 1230.6 seconds RetCode: 0 Status: OK CheckDir: EWCE.Rcheck Warnings: 0