Package: EWCE Version: 1.14.0 Command: rm -rf EWCE.buildbin-libdir && mkdir EWCE.buildbin-libdir && F:\biocbuild\bbs-3.20-bioc\R\bin\R.exe CMD INSTALL --build --library=EWCE.buildbin-libdir EWCE_1.14.0.tar.gz StartedAt: 2025-01-31 08:38:16 -0500 (Fri, 31 Jan 2025) EndedAt: 2025-01-31 08:39:29 -0500 (Fri, 31 Jan 2025) EllapsedTime: 73.1 seconds RetCode: 0 Status: OK PackageFile: EWCE_1.14.0.zip PackageFileSize: 2.135 MiB