Package: EWCE Version: 1.14.0 Command: chmod a+r EWCE -R && F:\biocbuild\bbs-3.20-bioc\R\bin\R.exe CMD build --keep-empty-dirs --no-resave-data EWCE StartedAt: 2025-01-30 18:47:13 -0500 (Thu, 30 Jan 2025) EndedAt: 2025-01-30 18:53:46 -0500 (Thu, 30 Jan 2025) EllapsedTime: 392.5 seconds RetCode: 0 Status: OK PackageFile: EWCE_1.14.0.tar.gz PackageFileSize: 1.797 MiB