Package: EWCE Version: 1.14.0 Command: F:\biocbuild\bbs-3.20-bioc\R\bin\R.exe CMD check --no-multiarch --install=check:EWCE.install-out.txt --library=F:\biocbuild\bbs-3.20-bioc\R\library --no-vignettes --timings EWCE_1.14.0.tar.gz StartedAt: 2025-01-31 01:56:58 -0500 (Fri, 31 Jan 2025) EndedAt: 2025-01-31 02:19:14 -0500 (Fri, 31 Jan 2025) EllapsedTime: 1336.3 seconds RetCode: 0 Status: OK CheckDir: EWCE.Rcheck Warnings: 0