Package: EWCE Version: 1.14.0 Command: F:\biocbuild\bbs-3.20-bioc\R\bin\R.exe CMD INSTALL EWCE StartedAt: 2025-01-30 16:57:38 -0500 (Thu, 30 Jan 2025) EndedAt: 2025-01-30 16:58:41 -0500 (Thu, 30 Jan 2025) EllapsedTime: 63.6 seconds RetCode: 0 Status: OK