Package: EWCE Version: 1.14.0 Command: /home/biocbuild/R/R/bin/R CMD check --install=check:EWCE.install-out.txt --library=/home/biocbuild/R/R/site-library --no-vignettes --timings EWCE_1.14.0.tar.gz StartedAt: 2025-01-31 06:09:52 -0000 (Fri, 31 Jan 2025) EndedAt: 2025-01-31 06:29:39 -0000 (Fri, 31 Jan 2025) EllapsedTime: 1187.3 seconds RetCode: 0 Status: OK CheckDir: EWCE.Rcheck Warnings: 0