Package: EmpiricalBrownsMethod Version: 1.34.0 Command: rm -rf EmpiricalBrownsMethod.buildbin-libdir && mkdir EmpiricalBrownsMethod.buildbin-libdir && /Users/biocbuild/BBS/utils/build-universal.sh EmpiricalBrownsMethod_1.34.0.tar.gz /Library/Frameworks/R.framework/Resources/bin/R EmpiricalBrownsMethod.buildbin-libdir StartedAt: 2025-02-05 15:42:57 -0500 (Wed, 05 Feb 2025) EndedAt: 2025-02-05 15:43:00 -0500 (Wed, 05 Feb 2025) EllapsedTime: 3.3 seconds RetCode: 0 Status: OK PackageFile: EmpiricalBrownsMethod_1.34.0.tgz PackageFileSize: 51.3 KiB