Package: EmpiricalBrownsMethod Version: 1.34.0 Command: /Library/Frameworks/R.framework/Resources/bin/R CMD INSTALL EmpiricalBrownsMethod StartedAt: 2025-02-03 15:08:41 -0500 (Mon, 03 Feb 2025) EndedAt: 2025-02-03 15:08:47 -0500 (Mon, 03 Feb 2025) EllapsedTime: 5.9 seconds RetCode: 0 Status: OK