Package: EmpiricalBrownsMethod Version: 1.34.0 Command: /Library/Frameworks/R.framework/Resources/bin/R CMD check --install=check:EmpiricalBrownsMethod.install-out.txt --library=/Library/Frameworks/R.framework/Resources/library --no-vignettes --timings EmpiricalBrownsMethod_1.34.0.tar.gz StartedAt: 2025-02-04 03:14:23 -0500 (Tue, 04 Feb 2025) EndedAt: 2025-02-04 03:15:03 -0500 (Tue, 04 Feb 2025) EllapsedTime: 40.7 seconds RetCode: 0 Status: OK CheckDir: EmpiricalBrownsMethod.Rcheck Warnings: 0