Package: EmpiricalBrownsMethod Version: 1.34.0 Command: /Library/Frameworks/R.framework/Resources/bin/R CMD INSTALL EmpiricalBrownsMethod StartedAt: 2025-02-10 15:03:09 -0500 (Mon, 10 Feb 2025) EndedAt: 2025-02-10 15:03:20 -0500 (Mon, 10 Feb 2025) EllapsedTime: 11.0 seconds RetCode: 0 Status: OK