Package: EmpiricalBrownsMethod Version: 1.34.0 Command: /home/biocbuild/bbs-3.20-bioc/R/bin/R CMD check --install=check:EmpiricalBrownsMethod.install-out.txt --library=/home/biocbuild/bbs-3.20-bioc/R/site-library --timings EmpiricalBrownsMethod_1.34.0.tar.gz StartedAt: 2025-02-03 22:05:00 -0500 (Mon, 03 Feb 2025) EndedAt: 2025-02-03 22:05:16 -0500 (Mon, 03 Feb 2025) EllapsedTime: 16.0 seconds RetCode: 0 Status: OK CheckDir: EmpiricalBrownsMethod.Rcheck Warnings: 0