Package: EmpiricalBrownsMethod Version: 1.34.0 Command: rm -rf EmpiricalBrownsMethod.buildbin-libdir && mkdir EmpiricalBrownsMethod.buildbin-libdir && F:\biocbuild\bbs-3.20-bioc\R\bin\R.exe CMD INSTALL --build --library=EmpiricalBrownsMethod.buildbin-libdir EmpiricalBrownsMethod_1.34.0.tar.gz StartedAt: 2025-02-04 08:25:58 -0500 (Tue, 04 Feb 2025) EndedAt: 2025-02-04 08:27:21 -0500 (Tue, 04 Feb 2025) EllapsedTime: 82.9 seconds RetCode: 0 Status: OK PackageFile: EmpiricalBrownsMethod_1.34.0.zip PackageFileSize: 57.88 KiB