Package: EnhancedVolcano Version: 1.24.0 Command: rm -rf EnhancedVolcano.buildbin-libdir && mkdir EnhancedVolcano.buildbin-libdir && /Users/biocbuild/BBS/utils/build-universal.sh EnhancedVolcano_1.24.0.tar.gz /Library/Frameworks/R.framework/Resources/bin/R EnhancedVolcano.buildbin-libdir StartedAt: 2025-02-05 15:43:00 -0500 (Wed, 05 Feb 2025) EndedAt: 2025-02-05 15:43:08 -0500 (Wed, 05 Feb 2025) EllapsedTime: 7.7 seconds RetCode: 0 Status: OK PackageFile: EnhancedVolcano_1.24.0.tgz PackageFileSize: 5.929 MiB