Package: EnhancedVolcano Version: 1.24.0 Command: /Library/Frameworks/R.framework/Resources/bin/R CMD INSTALL EnhancedVolcano StartedAt: 2025-02-03 15:38:09 -0500 (Mon, 03 Feb 2025) EndedAt: 2025-02-03 15:38:12 -0500 (Mon, 03 Feb 2025) EllapsedTime: 3.4 seconds RetCode: 0 Status: OK