Package: EnhancedVolcano Version: 1.24.0 Command: /Library/Frameworks/R.framework/Resources/bin/R CMD INSTALL EnhancedVolcano StartedAt: 2025-02-10 15:12:23 -0500 (Mon, 10 Feb 2025) EndedAt: 2025-02-10 15:12:33 -0500 (Mon, 10 Feb 2025) EllapsedTime: 10.1 seconds RetCode: 0 Status: OK