Package: EnhancedVolcano Version: 1.24.0 Command: /home/biocbuild/bbs-3.20-bioc/R/bin/R CMD build --keep-empty-dirs --no-resave-data --md5 EnhancedVolcano StartedAt: 2025-02-03 17:17:58 -0500 (Mon, 03 Feb 2025) EndedAt: 2025-02-03 17:19:28 -0500 (Mon, 03 Feb 2025) EllapsedTime: 90.1 seconds RetCode: 0 Status: OK PackageFile: EnhancedVolcano_1.24.0.tar.gz PackageFileSize: 9.63 MiB