Package: EnhancedVolcano Version: 1.24.0 Command: chmod a+r EnhancedVolcano -R && F:\biocbuild\bbs-3.20-bioc\R\bin\R.exe CMD build --keep-empty-dirs --no-resave-data EnhancedVolcano StartedAt: 2025-02-03 18:50:46 -0500 (Mon, 03 Feb 2025) EndedAt: 2025-02-03 19:15:13 -0500 (Mon, 03 Feb 2025) EllapsedTime: 1467.4 seconds RetCode: 0 Status: OK PackageFile: EnhancedVolcano_1.24.0.tar.gz PackageFileSize: 6.156 MiB