Package: EnhancedVolcano Version: 1.24.0 Command: F:\biocbuild\bbs-3.20-bioc\R\bin\R.exe CMD INSTALL EnhancedVolcano StartedAt: 2025-02-10 15:40:23 -0500 (Mon, 10 Feb 2025) EndedAt: 2025-02-10 15:40:37 -0500 (Mon, 10 Feb 2025) EllapsedTime: 13.5 seconds RetCode: 0 Status: OK