Package: EnhancedVolcano Version: 1.24.0 Command: /home/biocbuild/R/R/bin/R CMD INSTALL EnhancedVolcano StartedAt: 2025-02-10 20:21:16 -0000 (Mon, 10 Feb 2025) EndedAt: 2025-02-10 20:21:22 -0000 (Mon, 10 Feb 2025) EllapsedTime: 5.4 seconds RetCode: 0 Status: OK