Package: EnrichDO Version: 1.0.0 Command: /Library/Frameworks/R.framework/Resources/bin/R CMD build --keep-empty-dirs --no-resave-data EnrichDO StartedAt: 2025-01-30 23:11:10 -0500 (Thu, 30 Jan 2025) EndedAt: 2025-01-30 23:13:24 -0500 (Thu, 30 Jan 2025) EllapsedTime: 133.9 seconds RetCode: 1 Status: ERROR PackageFile: None PackageFileSize: NA