Package: EnrichDO Version: 1.0.0 Command: /Library/Frameworks/R.framework/Resources/bin/R CMD INSTALL EnrichDO StartedAt: 2025-02-03 17:13:16 -0500 (Mon, 03 Feb 2025) EndedAt: 2025-02-03 17:13:49 -0500 (Mon, 03 Feb 2025) EllapsedTime: 33.7 seconds RetCode: 0 Status: OK