Package: EnrichDO Version: 1.0.0 Command: /Library/Frameworks/R.framework/Resources/bin/R CMD INSTALL EnrichDO StartedAt: 2025-01-30 16:16:28 -0500 (Thu, 30 Jan 2025) EndedAt: 2025-01-30 16:17:28 -0500 (Thu, 30 Jan 2025) EllapsedTime: 60.0 seconds RetCode: 0 Status: OK