Package: EnrichDO Version: 1.0.0 Command: /home/biocbuild/bbs-3.20-bioc/R/bin/R CMD check --install=check:EnrichDO.install-out.txt --library=/home/biocbuild/bbs-3.20-bioc/R/site-library --timings EnrichDO_1.0.0.tar.gz StartedAt: 2025-01-30 21:55:40 -0500 (Thu, 30 Jan 2025) EndedAt: 2025-01-30 22:02:23 -0500 (Thu, 30 Jan 2025) EllapsedTime: 402.4 seconds RetCode: 0 Status: OK CheckDir: EnrichDO.Rcheck Warnings: 0