Package: EnrichDO Version: 1.0.0 Command: chmod a+r EnrichDO -R && F:\biocbuild\bbs-3.20-bioc\R\bin\R.exe CMD build --keep-empty-dirs --no-resave-data EnrichDO StartedAt: 2025-01-30 18:36:07 -0500 (Thu, 30 Jan 2025) EndedAt: 2025-01-30 18:38:10 -0500 (Thu, 30 Jan 2025) EllapsedTime: 122.9 seconds RetCode: 0 Status: OK PackageFile: EnrichDO_1.0.0.tar.gz PackageFileSize: 2.023 MiB