Package: EnrichedHeatmap Version: 1.36.0 Command: /Library/Frameworks/R.framework/Resources/bin/R CMD build --keep-empty-dirs --no-resave-data EnrichedHeatmap StartedAt: 2025-02-10 23:17:49 -0500 (Mon, 10 Feb 2025) EndedAt: 2025-02-10 23:24:13 -0500 (Mon, 10 Feb 2025) EllapsedTime: 383.8 seconds RetCode: 0 Status: OK PackageFile: EnrichedHeatmap_1.36.0.tar.gz PackageFileSize: 13.16 MiB